BEGIN:VCALENDAR
VERSION:2.0
CALSCALE:GREGORIAN
PRODID:-//Diputació de Barcelona//DibaCMS//EN
BEGIN:VEVENT
UID:9426
DTSTAMP:20260425T054911
DTSTART:20220422T200000
DTEND:20220422T000000
SUMMARY:Apol·lo 17, l'útima vegada que vàrem anar a la lluna, De moment.... Sessions d'astronomia Infantil
LOCATION:
METHOD:PUBLISH
X-WR-CALNAME:info@parets.cat
X-WR-TIMEZONE:Europe/Madrid
DESCRIPTION:
URI:https://www.parets.cat/actualitat/agenda/apollo-17-lutima-vegada-que-varem-anar-a-la-lluna-de-moment-sessions-dastronomia-infantil.html
CLASS:PUBLIC
END:VEVENT
END:VCALENDAR
