BEGIN:VCALENDAR
VERSION:2.0
CALSCALE:GREGORIAN
PRODID:-//Diputació de Barcelona//DibaCMS//EN
BEGIN:VEVENT
UID:9429
DTSTAMP:20260425T021111
DTSTART:20220422T160000
DTEND:20220422T000000
SUMMARY:Diada de Sant Jordi al Casal d'Avis Asoveen
LOCATION:
METHOD:PUBLISH
X-WR-CALNAME:info@parets.cat
X-WR-TIMEZONE:Europe/Madrid
DESCRIPTION:Organitza: Casals Municipals de Gent Gran
URI:https://www.parets.cat/actualitat/agenda/diada-de-sant-jordi-al-casal-davis-asoveen.html
CLASS:PUBLIC
END:VEVENT
END:VCALENDAR
