BEGIN:VCALENDAR
VERSION:2.0
CALSCALE:GREGORIAN
PRODID:-//Diputació de Barcelona//DibaCMS//EN
BEGIN:VEVENT
UID:9432
DTSTAMP:20260425T053040
DTSTART:20220423T100000
DTEND:20220423T210000
SUMMARY:Diada de Sant Jordi
LOCATION:
METHOD:PUBLISH
X-WR-CALNAME:info@parets.cat
X-WR-TIMEZONE:Europe/Madrid
DESCRIPTION:Organitza: Servei de Cultura
URI:https://www.parets.cat/actualitat/agenda/diada-de-sant-jordi.html
CLASS:PUBLIC
END:VEVENT
END:VCALENDAR
