BEGIN:VCALENDAR
VERSION:2.0
CALSCALE:GREGORIAN
PRODID:-//Diputació de Barcelona//DibaCMS//EN
BEGIN:VEVENT
UID:9433
DTSTAMP:20260425T021031
DTSTART:20220423T163000
DTEND:20220423T000000
SUMMARY:Diada de Sant Jordi Casal d'Avis Ca n'Oms
LOCATION:
METHOD:PUBLISH
X-WR-CALNAME:info@parets.cat
X-WR-TIMEZONE:Europe/Madrid
DESCRIPTION:Organitza: Casals Municipals de Gent Gran
URI:https://www.parets.cat/actualitat/agenda/diada-de-sant-jordi-casal-davis-ca-noms.html
CLASS:PUBLIC
END:VEVENT
END:VCALENDAR
