BEGIN:VCALENDAR
VERSION:2.0
CALSCALE:GREGORIAN
PRODID:-//Diputació de Barcelona//DibaCMS//EN
BEGIN:VEVENT
UID:9436
DTSTAMP:20260425T131028
DTSTART:20220423T100000
DTEND:20220423T140000
SUMMARY:Diada de Sant Jordi activitats durant el matí
LOCATION:
METHOD:PUBLISH
X-WR-CALNAME:info@parets.cat
X-WR-TIMEZONE:Europe/Madrid
DESCRIPTION:Organitza: Servei de Cultura
URI:https://www.parets.cat/actualitat/agenda/diada-de-sant-jordi-activitats-durant-el-mati.html
CLASS:PUBLIC
END:VEVENT
END:VCALENDAR
