BEGIN:VCALENDAR
VERSION:2.0
CALSCALE:GREGORIAN
PRODID:-//Diputació de Barcelona//DibaCMS//EN
BEGIN:VEVENT
UID:9450
DTSTAMP:20260425T061301
DTSTART:20220429T000000
DTEND:20220515T000000
SUMMARY:Exposició de pintures a l'oli de Pepita Val
LOCATION:
METHOD:PUBLISH
X-WR-CALNAME:info@parets.cat
X-WR-TIMEZONE:Europe/Madrid
DESCRIPTION:Organitza: Servei de Cultura
URI:https://www.parets.cat/actualitat/agenda/exposicio-de-pintures-a-loli-de-pepita-val.html
CLASS:PUBLIC
END:VEVENT
END:VCALENDAR
