BEGIN:VCALENDAR
VERSION:2.0
CALSCALE:GREGORIAN
PRODID:-//Diputació de Barcelona//DibaCMS//EN
BEGIN:VEVENT
UID:9452
DTSTAMP:20260425T060121
DTSTART:20220430T100000
DTEND:20220430T133000
SUMMARY:Sortida: el riu Tenes, restauració, evolució de la fase 1
LOCATION:
METHOD:PUBLISH
X-WR-CALNAME:info@parets.cat
X-WR-TIMEZONE:Europe/Madrid
DESCRIPTION:Organitza: Escola de la Natura
URI:https://www.parets.cat/actualitat/agenda/sortida-el-riu-tenes-restauracio-evolucio-de-la-fase-1.html
CLASS:PUBLIC
END:VEVENT
END:VCALENDAR
