BEGIN:VCALENDAR
VERSION:2.0
CALSCALE:GREGORIAN
PRODID:-//Diputació de Barcelona//DibaCMS//EN
BEGIN:VEVENT
UID:9454
DTSTAMP:20260425T060009
DTSTART:20220430T110000
DTEND:20220430T000000
SUMMARY:Festa de la Flor 2022, amb concurs de flors i ball.
LOCATION:
METHOD:PUBLISH
X-WR-CALNAME:info@parets.cat
X-WR-TIMEZONE:Europe/Madrid
DESCRIPTION:Organitza: Casal d'Avis Asoveen
URI:https://www.parets.cat/actualitat/agenda/festa-de-la-flor-2022-amb-concurs-de-flors-i-ball.html
CLASS:PUBLIC
END:VEVENT
END:VCALENDAR
