BEGIN:VCALENDAR
VERSION:2.0
CALSCALE:GREGORIAN
PRODID:-//Diputació de Barcelona//DibaCMS//EN
BEGIN:VEVENT
UID:9455
DTSTAMP:20260425T060355
DTSTART:20220430T051500
DTEND:20220430T193000
SUMMARY:La Bastarda. Caminada popular desde Aiguafreda a Parets
LOCATION:
METHOD:PUBLISH
X-WR-CALNAME:info@parets.cat
X-WR-TIMEZONE:Europe/Madrid
DESCRIPTION:Organitza: Centre d'Activitats de Muntanya
URI:https://www.parets.cat/actualitat/agenda/la-bastarda-caminada-popular-desde-aiguafreda-a-parets.html
CLASS:PUBLIC
END:VEVENT
END:VCALENDAR
