BEGIN:VCALENDAR
VERSION:2.0
CALSCALE:GREGORIAN
PRODID:-//Diputació de Barcelona//DibaCMS//EN
BEGIN:VEVENT
UID:9456
DTSTAMP:20260425T061824
DTSTART:20220430T110000
DTEND:20220430T130000
SUMMARY:Exhibició de coreografies a càrrec de l’alumnat de PROdansa i de Dansa Benestar
LOCATION:
METHOD:PUBLISH
X-WR-CALNAME:info@parets.cat
X-WR-TIMEZONE:Europe/Madrid
DESCRIPTION:Organitza: PROdansa
URI:https://www.parets.cat/actualitat/agenda/exhibicio-de-coreografies-a-carrec-de-lalumnat-de-prodansa-i-de-dansa-benestar.html
CLASS:PUBLIC
END:VEVENT
END:VCALENDAR
