BEGIN:VCALENDAR
VERSION:2.0
CALSCALE:GREGORIAN
PRODID:-//Diputació de Barcelona//DibaCMS//EN
BEGIN:VEVENT
UID:9458
DTSTAMP:20260425T054738
DTSTART:20220502T150000
DTEND:20220502T160000
SUMMARY:Cafè Comerç amb l'alcalde
LOCATION:
METHOD:PUBLISH
X-WR-CALNAME:info@parets.cat
X-WR-TIMEZONE:Europe/Madrid
DESCRIPTION:Organitza: Servei de comerç
URI:https://www.parets.cat/actualitat/agenda/cafe-comerc-amb-lalcalde.html
CLASS:PUBLIC
END:VEVENT
END:VCALENDAR
