BEGIN:VCALENDAR
VERSION:2.0
CALSCALE:GREGORIAN
PRODID:-//Diputació de Barcelona//DibaCMS//EN
BEGIN:VEVENT
UID:9464
DTSTAMP:20260425T022631
DTSTART:20220506T173000
DTEND:20220506T193000
SUMMARY:Elaboració de melmelades, prou al malbaratament d'aliments! Tallers de natura en familia
LOCATION:
METHOD:PUBLISH
X-WR-CALNAME:info@parets.cat
X-WR-TIMEZONE:Europe/Madrid
DESCRIPTION:Organitza: Escola de la Natura
URI:https://www.parets.cat/actualitat/agenda/elaboracio-de-melmelades-prou-al-malbaratament-daliments-tallers-de-natura-en-familia.html
CLASS:PUBLIC
END:VEVENT
END:VCALENDAR
