BEGIN:VCALENDAR
VERSION:2.0
CALSCALE:GREGORIAN
PRODID:-//Diputació de Barcelona//DibaCMS//EN
BEGIN:VEVENT
UID:9465
DTSTAMP:20260425T022554
DTSTART:20220506T100000
DTEND:20220506T130000
SUMMARY:Curs d'iniciació a la marxa nòrdica per a gent gran
LOCATION:
METHOD:PUBLISH
X-WR-CALNAME:info@parets.cat
X-WR-TIMEZONE:Europe/Madrid
DESCRIPTION:Organitza: Casals Municipals de Gent Gran
URI:https://www.parets.cat/actualitat/agenda/9465-curs-diniciacio-a-la-marxa-nordica-per-a-gent-gran.html
CLASS:PUBLIC
END:VEVENT
END:VCALENDAR
