BEGIN:VCALENDAR
VERSION:2.0
CALSCALE:GREGORIAN
PRODID:-//Diputació de Barcelona//DibaCMS//EN
BEGIN:VEVENT
UID:9467
DTSTAMP:20260425T022200
DTSTART:20220506T173000
DTEND:20220506T000000
SUMMARY:Presentació del llibre Creciendo con la fuerza
LOCATION:
METHOD:PUBLISH
X-WR-CALNAME:info@parets.cat
X-WR-TIMEZONE:Europe/Madrid
DESCRIPTION:Organitza: Club Atletisme Parets
URI:https://www.parets.cat/actualitat/agenda/presentacio-del-llibre-creciendo-con-la-fuerza.html
CLASS:PUBLIC
END:VEVENT
END:VCALENDAR
