BEGIN:VCALENDAR
VERSION:2.0
CALSCALE:GREGORIAN
PRODID:-//Diputació de Barcelona//DibaCMS//EN
BEGIN:VEVENT
UID:9468
DTSTAMP:20260425T042015
DTSTART:20220506T100000
DTEND:20220506T000000
SUMMARY:Netegem el Tenes, amb la participació de l’alumnat de l’IES La Sínia
LOCATION:
METHOD:PUBLISH
X-WR-CALNAME:info@parets.cat
X-WR-TIMEZONE:Europe/Madrid
DESCRIPTION:Organitza: Escola de la Natura
URI:https://www.parets.cat/actualitat/agenda/netegem-el-tenes-amb-la-participacio-de-lalumnat-de-lies-la-sinia.html
CLASS:PUBLIC
END:VEVENT
END:VCALENDAR
