BEGIN:VCALENDAR
VERSION:2.0
CALSCALE:GREGORIAN
PRODID:-//Diputació de Barcelona//DibaCMS//EN
BEGIN:VEVENT
UID:9472
DTSTAMP:20260425T022739
DTSTART:20220507T100000
DTEND:20220507T130000
SUMMARY:Matinal de natura i neteja al riu Tenes, amb refrigeri, activitats i tallers de caixes niu i dibuix. 
LOCATION:
METHOD:PUBLISH
X-WR-CALNAME:info@parets.cat
X-WR-TIMEZONE:Europe/Madrid
DESCRIPTION:Organitza: Escola de la Natura
URI:https://www.parets.cat/actualitat/agenda/matinal-de-natura-i-neteja-al-riu-tenes-amb-refrigeri-activitats-i-tallers-de-caixes-niu-i-dibuix-.html
CLASS:PUBLIC
END:VEVENT
END:VCALENDAR
