BEGIN:VCALENDAR
VERSION:2.0
CALSCALE:GREGORIAN
PRODID:-//Diputació de Barcelona//DibaCMS//EN
BEGIN:VEVENT
UID:9473
DTSTAMP:20260425T022006
DTSTART:20220508T180000
DTEND:20220508T000000
SUMMARY:Lumière. Cia Txema Muñoz
LOCATION:
METHOD:PUBLISH
X-WR-CALNAME:info@parets.cat
X-WR-TIMEZONE:Europe/Madrid
DESCRIPTION:Organitza: Rialles Parets
URI:https://www.parets.cat/actualitat/agenda/9473-lumiere-cia-txema-munoz.html
CLASS:PUBLIC
END:VEVENT
END:VCALENDAR
