BEGIN:VCALENDAR
VERSION:2.0
CALSCALE:GREGORIAN
PRODID:-//Diputació de Barcelona//DibaCMS//EN
BEGIN:VEVENT
UID:9475
DTSTAMP:20260425T022654
DTSTART:20220508T110000
DTEND:20220508T120000
SUMMARY:Taller de ioga obert
LOCATION:
METHOD:PUBLISH
X-WR-CALNAME:info@parets.cat
X-WR-TIMEZONE:Europe/Madrid
DESCRIPTION:Organitza: Parets Contra el Càncer i Nomad Yoga
URI:https://www.parets.cat/actualitat/agenda/taller-de-ioga-obert.html
CLASS:PUBLIC
END:VEVENT
END:VCALENDAR
