BEGIN:VCALENDAR
VERSION:2.0
CALSCALE:GREGORIAN
PRODID:-//Diputació de Barcelona//DibaCMS//EN
BEGIN:VEVENT
UID:9476
DTSTAMP:20260425T022935
DTSTART:20220508T110000
DTEND:20220508T120000
SUMMARY:Ballada i taller familiar de gitanes a càrrec de la Colal del Ball de Gitanes de Parets
LOCATION:
METHOD:PUBLISH
X-WR-CALNAME:info@parets.cat
X-WR-TIMEZONE:Europe/Madrid
DESCRIPTION:Organitza: Colla del Ball de Gitanes de Parets
URI:https://www.parets.cat/actualitat/agenda/ballada-i-taller-familiar-de-gitanes-a-carrec-de-la-colal-del-ball-de-gitanes-de-parets.html
CLASS:PUBLIC
END:VEVENT
END:VCALENDAR
