BEGIN:VCALENDAR
VERSION:2.0
CALSCALE:GREGORIAN
PRODID:-//Diputació de Barcelona//DibaCMS//EN
BEGIN:VEVENT
UID:9478
DTSTAMP:20260425T022453
DTSTART:20220509T000000
DTEND:20220519T000000
SUMMARY:Exposició del XXV Concurs de Punts de Llibre-2022
LOCATION:
METHOD:PUBLISH
X-WR-CALNAME:info@parets.cat
X-WR-TIMEZONE:Europe/Madrid
DESCRIPTION:Organitza: Biblioteca Can Rajoler
URI:https://www.parets.cat/actualitat/agenda/exposicio-del-xxv-concurs-de-punts-de-llibre-2022.html
CLASS:PUBLIC
END:VEVENT
END:VCALENDAR
