BEGIN:VCALENDAR
VERSION:2.0
CALSCALE:GREGORIAN
PRODID:-//Diputació de Barcelona//DibaCMS//EN
BEGIN:VEVENT
UID:9480
DTSTAMP:20260425T041922
DTSTART:20220509T193000
DTEND:20220509T000000
SUMMARY:Pantalles i infància. Ús o abús?
LOCATION:
METHOD:PUBLISH
X-WR-CALNAME:info@parets.cat
X-WR-TIMEZONE:Europe/Madrid
DESCRIPTION:Organitza: CAMPA Parets
URI:https://www.parets.cat/actualitat/agenda/pantalles-i-infancia-us-o-abus.html
CLASS:PUBLIC
END:VEVENT
END:VCALENDAR
