BEGIN:VCALENDAR
VERSION:2.0
CALSCALE:GREGORIAN
PRODID:-//Diputació de Barcelona//DibaCMS//EN
BEGIN:VEVENT
UID:9485
DTSTAMP:20260425T061436
DTSTART:20220513T220000
DTEND:20220513T000000
SUMMARY:El viatge de les Voyager. Sessions d'astronomia adults
LOCATION:
METHOD:PUBLISH
X-WR-CALNAME:info@parets.cat
X-WR-TIMEZONE:Europe/Madrid
DESCRIPTION:Organitza: Escola de la Natura
URI:https://www.parets.cat/actualitat/agenda/el-viatge-de-les-voyager-sessions-dastronomia-adults.html
CLASS:PUBLIC
END:VEVENT
END:VCALENDAR
