BEGIN:VCALENDAR
VERSION:2.0
CALSCALE:GREGORIAN
PRODID:-//Diputació de Barcelona//DibaCMS//EN
BEGIN:VEVENT
UID:9486
DTSTAMP:20260425T041804
DTSTART:20220513T180000
DTEND:20220513T000000
SUMMARY:Presentació del Projecte Educatiu de Centre Compartit
LOCATION:
METHOD:PUBLISH
X-WR-CALNAME:info@parets.cat
X-WR-TIMEZONE:Europe/Madrid
DESCRIPTION:Organitza: Servei d'Educació
URI:https://www.parets.cat/actualitat/agenda/presentacio-del-projecte-educatiu-de-centre-compartit.html
CLASS:PUBLIC
END:VEVENT
END:VCALENDAR
