BEGIN:VCALENDAR
VERSION:2.0
CALSCALE:GREGORIAN
PRODID:-//Diputació de Barcelona//DibaCMS//EN
BEGIN:VEVENT
UID:9488
DTSTAMP:20260425T054607
DTSTART:20220515T193000
DTEND:20220515T000000
SUMMARY:Womblues. Big Mama Montse, Sister Marion & Sweet Marta
LOCATION:
METHOD:PUBLISH
X-WR-CALNAME:info@parets.cat
X-WR-TIMEZONE:Europe/Madrid
DESCRIPTION:Organitza: Can Rajoler
URI:https://www.parets.cat/actualitat/agenda/womblues-big-mama-montse-sister-marion-and-sweet-marta.html
CLASS:PUBLIC
END:VEVENT
END:VCALENDAR
