BEGIN:VCALENDAR
VERSION:2.0
CALSCALE:GREGORIAN
PRODID:-//Diputació de Barcelona//DibaCMS//EN
BEGIN:VEVENT
UID:9490
DTSTAMP:20260425T054638
DTSTART:20220515T110000
DTEND:20220515T140000
SUMMARY:Cloenda de la Setmana de la Familia, amb espai de jocs i tallers infantils
LOCATION:
METHOD:PUBLISH
X-WR-CALNAME:info@parets.cat
X-WR-TIMEZONE:Europe/Madrid
DESCRIPTION:Organitza: XEF i Servei d'Educació
URI:https://www.parets.cat/actualitat/agenda/cloenda-de-la-setmana-de-la-familia-amb-espai-de-jocs-i-tallers-infantils.html
CLASS:PUBLIC
END:VEVENT
END:VCALENDAR
