BEGIN:VCALENDAR
VERSION:2.0
CALSCALE:GREGORIAN
PRODID:-//Diputació de Barcelona//DibaCMS//EN
BEGIN:VEVENT
UID:9491
DTSTAMP:20260425T034748
DTSTART:20220515T123000
DTEND:20220515T000000
SUMMARY:Vermut LGTBI + Feminista, Fem Xarxa!
LOCATION:
METHOD:PUBLISH
X-WR-CALNAME:info@parets.cat
X-WR-TIMEZONE:Europe/Madrid
DESCRIPTION:Organitza: Casal de Joves Cal Jardiner
URI:https://www.parets.cat/actualitat/agenda/vermut-lgtbi--feminista-fem-xarxa.html
CLASS:PUBLIC
END:VEVENT
END:VCALENDAR
