BEGIN:VCALENDAR
VERSION:2.0
CALSCALE:GREGORIAN
PRODID:-//Diputació de Barcelona//DibaCMS//EN
BEGIN:VEVENT
UID:9492
DTSTAMP:20260425T021140
DTSTART:20220516T190000
DTEND:20220516T000000
SUMMARY:Conversation group in english, a càrrec d’Elena Calvo
LOCATION:
METHOD:PUBLISH
X-WR-CALNAME:info@parets.cat
X-WR-TIMEZONE:Europe/Madrid
DESCRIPTION:Organitza: Biblioteca Can Rajoler
URI:https://www.parets.cat/actualitat/agenda/9492-conversation-group-in-english-a-carrec-delena-calvo.html
CLASS:PUBLIC
END:VEVENT
END:VCALENDAR
