BEGIN:VCALENDAR
VERSION:2.0
CALSCALE:GREGORIAN
PRODID:-//Diputació de Barcelona//DibaCMS//EN
BEGIN:VEVENT
UID:9493
DTSTAMP:20260425T055157
DTSTART:20220517T173000
DTEND:20220517T000000
SUMMARY:Sortida familiar a l'Espai Rural de Gallecs per descobrir la zona i els insectes que hi habiten
LOCATION:
METHOD:PUBLISH
X-WR-CALNAME:info@parets.cat
X-WR-TIMEZONE:Europe/Madrid
DESCRIPTION:Organitza: Biblioteca Can Butjosa i Escola de la Natura
URI:https://www.parets.cat/actualitat/agenda/sortida-familiar-a-lespai-rural-de-gallecs-per-descobrir-la-zona-i-els-insectes-que-hi-habiten.html
CLASS:PUBLIC
END:VEVENT
END:VCALENDAR
