BEGIN:VCALENDAR
VERSION:2.0
CALSCALE:GREGORIAN
PRODID:-//Diputació de Barcelona//DibaCMS//EN
BEGIN:VEVENT
UID:9494
DTSTAMP:20260424T204053
DTSTART:20220517T180000
DTEND:20220517T000000
SUMMARY:Mòmies egípcies, taller infantil a càrrec del Museu Egipci de Barcelona
LOCATION:
METHOD:PUBLISH
X-WR-CALNAME:info@parets.cat
X-WR-TIMEZONE:Europe/Madrid
DESCRIPTION:Organitza: Biblioteca Can Rajoler
URI:https://www.parets.cat/actualitat/agenda/momies-egipcies-taller-infantil-a-carrec-del-museu-egipci-de-barcelona.html
CLASS:PUBLIC
END:VEVENT
END:VCALENDAR
