BEGIN:VCALENDAR
VERSION:2.0
CALSCALE:GREGORIAN
PRODID:-//Diputació de Barcelona//DibaCMS//EN
BEGIN:VEVENT
UID:9498
DTSTAMP:20260425T034825
DTSTART:20220517T190000
DTEND:20220517T000000
SUMMARY:Audició de Bàsics 1. Setmana Cultural 2022
LOCATION:
METHOD:PUBLISH
X-WR-CALNAME:info@parets.cat
X-WR-TIMEZONE:Europe/Madrid
DESCRIPTION:Organitza: Escola Municipal de Música
URI:https://www.parets.cat/actualitat/agenda/audicio-de-basics-1-setmana-cultural-2022.html
CLASS:PUBLIC
END:VEVENT
END:VCALENDAR
