BEGIN:VCALENDAR
VERSION:2.0
CALSCALE:GREGORIAN
PRODID:-//Diputació de Barcelona//DibaCMS//EN
BEGIN:VEVENT
UID:9503
DTSTAMP:20260425T123623
DTSTART:20220520T173000
DTEND:20220521T130000
SUMMARY:Ornitologia del Tenes. Ovservació i coneixement de les aus
LOCATION:
METHOD:PUBLISH
X-WR-CALNAME:info@parets.cat
X-WR-TIMEZONE:Europe/Madrid
DESCRIPTION:Organitza: Escola de la Natura
URI:https://www.parets.cat/actualitat/agenda/ornitologia-del-tenes-ovservacio-i-coneixement-de-les-aus.html
CLASS:PUBLIC
END:VEVENT
END:VCALENDAR
