BEGIN:VCALENDAR
VERSION:2.0
CALSCALE:GREGORIAN
PRODID:-//Diputació de Barcelona//DibaCMS//EN
BEGIN:VEVENT
UID:9504
DTSTAMP:20260425T034714
DTSTART:20220520T180000
DTEND:20220520T000000
SUMMARY:"RIP: Contes sobre la mort" Club de Lectura Infantil i Juvenil per adults
LOCATION:
METHOD:PUBLISH
X-WR-CALNAME:info@parets.cat
X-WR-TIMEZONE:Europe/Madrid
DESCRIPTION:Organitza: Biblioteca Can Butjosa
URI:https://www.parets.cat/actualitat/agenda/rip-contes-sobre-la-mort-club-de-lectura-infantil-i-juvenil-per-adults.html
CLASS:PUBLIC
END:VEVENT
END:VCALENDAR
