BEGIN:VCALENDAR
VERSION:2.0
CALSCALE:GREGORIAN
PRODID:-//Diputació de Barcelona//DibaCMS//EN
BEGIN:VEVENT
UID:9505
DTSTAMP:20260424T223741
DTSTART:20220520T190000
DTEND:20220520T000000
SUMMARY:Inauguració d'Exposició de les obres i treballs de l'alumnat del taller de pintures i dibuix del Casal de Cultura Can Butjosa
LOCATION:
METHOD:PUBLISH
X-WR-CALNAME:info@parets.cat
X-WR-TIMEZONE:Europe/Madrid
DESCRIPTION:Organitza: Servei de Cultura
URI:https://www.parets.cat/actualitat/agenda/inauguracio-dexposicio-de-les-obres-i-treballs-de-lalumnat-del-taller-de-pintures-i-dibuix-del-casal-de-cultura-can-butjosa.html
CLASS:PUBLIC
END:VEVENT
END:VCALENDAR
