BEGIN:VCALENDAR
VERSION:2.0
CALSCALE:GREGORIAN
PRODID:-//Diputació de Barcelona//DibaCMS//EN
BEGIN:VEVENT
UID:9506
DTSTAMP:20260425T231159
DTSTART:20220520T200000
DTEND:20220520T000000
SUMMARY:Documental Dhaulagiri. Un dels darrers somnis del Sergi
LOCATION:
METHOD:PUBLISH
X-WR-CALNAME:info@parets.cat
X-WR-TIMEZONE:Europe/Madrid
DESCRIPTION:Organitza: Centre Excursionista Parets
URI:https://www.parets.cat/actualitat/agenda/documental-dhaulagiri-un-dels-darrers-somnis-del-sergi.html
CLASS:PUBLIC
END:VEVENT
END:VCALENDAR
