BEGIN:VCALENDAR
VERSION:2.0
CALSCALE:GREGORIAN
PRODID:-//Diputació de Barcelona//DibaCMS//EN
BEGIN:VEVENT
UID:9512
DTSTAMP:20260425T002419
DTSTART:20220524T180000
DTEND:20220524T000000
SUMMARY:Hora del conte per a nadons: Ninota, a càrrec de Mima Teatre
LOCATION:
METHOD:PUBLISH
X-WR-CALNAME:info@parets.cat
X-WR-TIMEZONE:Europe/Madrid
DESCRIPTION:Organitza: Biblioteca Can Rajoler
URI:https://www.parets.cat/actualitat/agenda/hora-del-conte-per-a-nadons-ninota-a-carrec-de-mima-teatre.html
CLASS:PUBLIC
END:VEVENT
END:VCALENDAR
