BEGIN:VCALENDAR
VERSION:2.0
CALSCALE:GREGORIAN
PRODID:-//Diputació de Barcelona//DibaCMS//EN
BEGIN:VEVENT
UID:9513
DTSTAMP:20260425T035742
DTSTART:20220524T181500
DTEND:20220524T000000
SUMMARY:Bressol de contes: D'Un conte al Sac, a càrrec de Mercè Martínez.
LOCATION:
METHOD:PUBLISH
X-WR-CALNAME:info@parets.cat
X-WR-TIMEZONE:Europe/Madrid
DESCRIPTION:Organitza: Biblioteca Can Butjosa
URI:https://www.parets.cat/actualitat/agenda/9513-bressol-de-contes-dun-conte-al-sac-a-carrec-de-merce-martinez.html
CLASS:PUBLIC
END:VEVENT
END:VCALENDAR
