BEGIN:VCALENDAR
VERSION:2.0
CALSCALE:GREGORIAN
PRODID:-//Diputació de Barcelona//DibaCMS//EN
BEGIN:VEVENT
UID:9521
DTSTAMP:20260424T185947
DTSTART:20220528T180000
DTEND:20220528T210000
SUMMARY:XI Gala benèfica Parets contra el càncer
LOCATION:
METHOD:PUBLISH
X-WR-CALNAME:info@parets.cat
X-WR-TIMEZONE:Europe/Madrid
DESCRIPTION:Organitza: Parets Contra el Càncer
URI:https://www.parets.cat/actualitat/agenda/xi-gala-benefica-parets-contra-el-cancer.html
CLASS:PUBLIC
END:VEVENT
END:VCALENDAR
