BEGIN:VCALENDAR
VERSION:2.0
CALSCALE:GREGORIAN
PRODID:-//Diputació de Barcelona//DibaCMS//EN
BEGIN:VEVENT
UID:9522
DTSTAMP:20260424T190120
DTSTART:20220529T080000
DTEND:20220529T210000
SUMMARY:Campionat de Barcelona cadet-juvenil de patinatge
LOCATION:
METHOD:PUBLISH
X-WR-CALNAME:info@parets.cat
X-WR-TIMEZONE:Europe/Madrid
DESCRIPTION:Organitza: Club Patí Parets
URI:https://www.parets.cat/actualitat/agenda/9522-campionat-de-barcelona-cadet-juvenil-de-patinatge.html
CLASS:PUBLIC
END:VEVENT
END:VCALENDAR
