BEGIN:VCALENDAR
VERSION:2.0
CALSCALE:GREGORIAN
PRODID:-//Diputació de Barcelona//DibaCMS//EN
BEGIN:VEVENT
UID:9524
DTSTAMP:20260424T185916
DTSTART:20220530T200000
DTEND:20220530T000000
SUMMARY:Mostra de teatre Bambolina. Ui!! La llebre i la tortuga, Buscant colors i Classe de Cant
LOCATION:
METHOD:PUBLISH
X-WR-CALNAME:info@parets.cat
X-WR-TIMEZONE:Europe/Madrid
DESCRIPTION:Organitza: Servei d'Educació
URI:https://www.parets.cat/actualitat/agenda/mostra-de-teatre-bambolina-ui-la-llebre-i-la-tortuga-buscant-colors-i-classe-de-cant.html
CLASS:PUBLIC
END:VEVENT
END:VCALENDAR
