BEGIN:VCALENDAR
VERSION:2.0
CALSCALE:GREGORIAN
PRODID:-//Diputació de Barcelona//DibaCMS//EN
BEGIN:VEVENT
UID:9525
DTSTAMP:20260425T002318
DTSTART:20220531T180000
DTEND:20220531T000000
SUMMARY:Hora del conte: Ra i Nut. Llegendes que corren pel Nil de nit i de dia, a càrrec de Mon Mas
LOCATION:
METHOD:PUBLISH
X-WR-CALNAME:info@parets.cat
X-WR-TIMEZONE:Europe/Madrid
DESCRIPTION:Organitza: Biblioteca Can Rajoler
URI:https://www.parets.cat/actualitat/agenda/hora-del-conte-ra-i-nut-llegendes-que-corren-pel-nil-de-nit-i-de-dia-a-carrec-de-mon-mas.html
CLASS:PUBLIC
END:VEVENT
END:VCALENDAR
