BEGIN:VCALENDAR
VERSION:2.0
CALSCALE:GREGORIAN
PRODID:-//Diputació de Barcelona//DibaCMS//EN
BEGIN:VEVENT
UID:9526
DTSTAMP:20260424T223641
DTSTART:20220531T200000
DTEND:20220531T000000
SUMMARY:Mostra de teatre Bambolina. Un cas de bruixes. El flautista d'Hamelin i Un somni mitològic.
LOCATION:
METHOD:PUBLISH
X-WR-CALNAME:info@parets.cat
X-WR-TIMEZONE:Europe/Madrid
DESCRIPTION:Organitza: Servei d'Educació
URI:https://www.parets.cat/actualitat/agenda/mostra-de-teatre-bambolina-un-cas-de-bruixes-el-flautista-dhamelin-i-un-somni-mitologic.html
CLASS:PUBLIC
END:VEVENT
END:VCALENDAR
