BEGIN:VCALENDAR
VERSION:2.0
CALSCALE:GREGORIAN
PRODID:-//Diputació de Barcelona//DibaCMS//EN
BEGIN:VEVENT
UID:9527
DTSTAMP:20260424T203914
DTSTART:20220601T200000
DTEND:20220601T000000
SUMMARY:Mostra de teatre Bambolina. Martí. L'anònim. L'excursió. El cel és escenari.
LOCATION:
METHOD:PUBLISH
X-WR-CALNAME:info@parets.cat
X-WR-TIMEZONE:Europe/Madrid
DESCRIPTION:Organitza: Servei d'Educació
URI:https://www.parets.cat/actualitat/agenda/mostra-de-teatre-bambolina-marti-lanonim-lexcursio-el-cel-es-escenari.html
CLASS:PUBLIC
END:VEVENT
END:VCALENDAR
