BEGIN:VCALENDAR
VERSION:2.0
CALSCALE:GREGORIAN
PRODID:-//Diputació de Barcelona//DibaCMS//EN
BEGIN:VEVENT
UID:9530
DTSTAMP:20260424T233727
DTSTART:20220602T180000
DTEND:20220602T190000
SUMMARY:Taller per a infants. Dia mundial del joc.
LOCATION:
METHOD:PUBLISH
X-WR-CALNAME:info@parets.cat
X-WR-TIMEZONE:Europe/Madrid
DESCRIPTION:Organitza: Biblioteca Can Rajoler
URI:https://www.parets.cat/actualitat/agenda/taller-per-a-infants-dia-mundial-del-joc.html
CLASS:PUBLIC
END:VEVENT
END:VCALENDAR
