BEGIN:VCALENDAR
VERSION:2.0
CALSCALE:GREGORIAN
PRODID:-//Diputació de Barcelona//DibaCMS//EN
BEGIN:VEVENT
UID:9531
DTSTAMP:20260424T214347
DTSTART:20220602T200000
DTEND:20220602T000000
SUMMARY:Mostra del teatre Bambolina 2022. Exit (Sortida).
LOCATION:
METHOD:PUBLISH
X-WR-CALNAME:info@parets.cat
X-WR-TIMEZONE:Europe/Madrid
DESCRIPTION:Organitza: Escena Educativa
URI:https://www.parets.cat/actualitat/agenda/mostra-del-teatre-bambolina-2022-exit-sortida.html
CLASS:PUBLIC
END:VEVENT
END:VCALENDAR
