BEGIN:VCALENDAR
VERSION:2.0
CALSCALE:GREGORIAN
PRODID:-//Diputació de Barcelona//DibaCMS//EN
BEGIN:VEVENT
UID:9534
DTSTAMP:20260424T220648
DTSTART:20220603T200000
DTEND:20220603T000000
SUMMARY:Mostra de teatre Bambolina 2022. La Natàlia i les fades. Atrapats al museu. Fantasmes al balneari.
LOCATION:
METHOD:PUBLISH
X-WR-CALNAME:info@parets.cat
X-WR-TIMEZONE:Europe/Madrid
DESCRIPTION:Organitza: Servei d'Educació
URI:https://www.parets.cat/actualitat/agenda/mostra-de-teatre-bambolina-2022-la-natalia-i-les-fades-atrapats-al-museu-fantasmes-al-balneari.html
CLASS:PUBLIC
END:VEVENT
END:VCALENDAR
