BEGIN:VCALENDAR
VERSION:2.0
CALSCALE:GREGORIAN
PRODID:-//Diputació de Barcelona//DibaCMS//EN
BEGIN:VEVENT
UID:9535
DTSTAMP:20260424T231828
DTSTART:20220604T100000
DTEND:20220604T133000
SUMMARY:Sortida: Corredor ecològic Gallecs, Can Serra, Riu Tenes
LOCATION:
METHOD:PUBLISH
X-WR-CALNAME:info@parets.cat
X-WR-TIMEZONE:Europe/Madrid
DESCRIPTION:Organitza: Escola de la Natura
URI:https://www.parets.cat/actualitat/agenda/sortida-corredor-ecologic-gallecs-can-serra-riu-tenes.html
CLASS:PUBLIC
END:VEVENT
END:VCALENDAR
