BEGIN:VCALENDAR
VERSION:2.0
CALSCALE:GREGORIAN
PRODID:-//Diputació de Barcelona//DibaCMS//EN
BEGIN:VEVENT
UID:9536
DTSTAMP:20260424T231750
DTSTART:20220604T200000
DTEND:20220604T000000
SUMMARY:Concert Parets GO PUNK!
LOCATION:
METHOD:PUBLISH
X-WR-CALNAME:info@parets.cat
X-WR-TIMEZONE:Europe/Madrid
DESCRIPTION:Organitza: Casa del Joves Cal Jardiner
URI:https://www.parets.cat/actualitat/agenda/concert-parets-go-punk.html
CLASS:PUBLIC
END:VEVENT
END:VCALENDAR
