BEGIN:VCALENDAR
VERSION:2.0
CALSCALE:GREGORIAN
PRODID:-//Diputació de Barcelona//DibaCMS//EN
BEGIN:VEVENT
UID:9537
DTSTAMP:20260424T232053
DTSTART:20220604T090000
DTEND:20220604T130000
SUMMARY:Paintball a Can Putxet
LOCATION:
METHOD:PUBLISH
X-WR-CALNAME:info@parets.cat
X-WR-TIMEZONE:Europe/Madrid
DESCRIPTION:Organitza: Casal de Joves Cal Jardiner
URI:https://www.parets.cat/actualitat/agenda/paintball-a-can-putxet.html
CLASS:PUBLIC
END:VEVENT
END:VCALENDAR
