BEGIN:VCALENDAR
VERSION:2.0
CALSCALE:GREGORIAN
PRODID:-//Diputació de Barcelona//DibaCMS//EN
BEGIN:VEVENT
UID:9540
DTSTAMP:20260424T201018
DTSTART:20220608T180000
DTEND:20220608T200000
SUMMARY:Xerrada Joves i drogues. Adreçada a joves.
LOCATION:
METHOD:PUBLISH
X-WR-CALNAME:info@parets.cat
X-WR-TIMEZONE:Europe/Madrid
DESCRIPTION:Organitza: Casa del Joves Cal Jardiner
URI:https://www.parets.cat/actualitat/agenda/xerrada-joves-i-drogues-adrecada-a-joves.html
CLASS:PUBLIC
END:VEVENT
END:VCALENDAR
