BEGIN:VCALENDAR
VERSION:2.0
CALSCALE:GREGORIAN
PRODID:-//Diputació de Barcelona//DibaCMS//EN
BEGIN:VEVENT
UID:9543
DTSTAMP:20260424T195943
DTSTART:20220610T210000
DTEND:20220610T000000
SUMMARY:La Teoria de la Relativitat entesa per tothom. Sessions d'astronomia Infantil
LOCATION:
METHOD:PUBLISH
X-WR-CALNAME:info@parets.cat
X-WR-TIMEZONE:Europe/Madrid
DESCRIPTION:Organitza: Escola de la Natura
URI:https://www.parets.cat/actualitat/agenda/la-teoria-de-la-relativitat-entesa-per-tothom-sessions-dastronomia-infantil.html
CLASS:PUBLIC
END:VEVENT
END:VCALENDAR
